BEGIN:VCALENDAR
VERSION:2.0
PRODID:-//Baltimore Sailing Club - ECPv6.15.17//NONSGML v1.0//EN
CALSCALE:GREGORIAN
METHOD:PUBLISH
X-WR-CALNAME:Baltimore Sailing Club
X-ORIGINAL-URL:https://www.baltimoresailingclub.ie
X-WR-CALDESC:Events for Baltimore Sailing Club
REFRESH-INTERVAL;VALUE=DURATION:PT1H
X-Robots-Tag:noindex
X-PUBLISHED-TTL:PT1H
BEGIN:VTIMEZONE
TZID:Europe/London
BEGIN:DAYLIGHT
TZOFFSETFROM:+0000
TZOFFSETTO:+0100
TZNAME:BST
DTSTART:20180325T010000
END:DAYLIGHT
BEGIN:STANDARD
TZOFFSETFROM:+0100
TZOFFSETTO:+0000
TZNAME:GMT
DTSTART:20181028T010000
END:STANDARD
BEGIN:DAYLIGHT
TZOFFSETFROM:+0000
TZOFFSETTO:+0100
TZNAME:BST
DTSTART:20190331T010000
END:DAYLIGHT
BEGIN:STANDARD
TZOFFSETFROM:+0100
TZOFFSETTO:+0000
TZNAME:GMT
DTSTART:20191027T010000
END:STANDARD
BEGIN:DAYLIGHT
TZOFFSETFROM:+0000
TZOFFSETTO:+0100
TZNAME:BST
DTSTART:20200329T010000
END:DAYLIGHT
BEGIN:STANDARD
TZOFFSETFROM:+0100
TZOFFSETTO:+0000
TZNAME:GMT
DTSTART:20201025T010000
END:STANDARD
END:VTIMEZONE
BEGIN:VEVENT
DTSTART;VALUE=DATE:20190622
DTEND;VALUE=DATE:20190624
DTSTAMP:20260424T133144
CREATED:20190621T123232Z
LAST-MODIFIED:20190621T123530Z
UID:4131-1561161600-1561334399@www.baltimoresailingclub.ie
SUMMARY:Safety Boat Course
DESCRIPTION:The Club is running an Irish Sailing Safety Boat Course on the 22nd/23rd June next. \nThis course is designed for those seeking to improve their competency in the sport and focuses upon areas such as escorting racing fleets of dinghies\, windsurfers and canoes; providing safety and rescue cover for training fleets and assisting in race management duties. \nParticipants must hold the National Powerboat Certificate (Level 2) and it is strongly recommended that a short range (SRC) VHF radio operators certificate and First Aid certificate is also held. \nThis course is run over two full days and bookings are being taken by Sheila O’Sullivan (086) 8699628.  Places are limited so if you are interested please contact Sheila today!. \nFull course syllabus and modules can be found on Irish Sailing website here.
URL:https://www.baltimoresailingclub.ie/event/safety-boat-course/
LOCATION:Baltimore Sailing Club\, Baltimore\, County Cork\, Cork\, Ireland
ATTACH;FMTTYPE=image/jpeg:https://www.baltimoresailingclub.ie/wp-content/uploads/2019/05/UNADJUSTEDNONRAW_thumb_12c84.jpg
ORGANIZER;CN="Baltimore Sailing Club":MAILTO:info@baltimoresailingclub.ie
END:VEVENT
END:VCALENDAR