BEGIN:VCALENDAR
VERSION:2.0
PRODID:-//Baltimore Sailing Club - ECPv6.15.17//NONSGML v1.0//EN
CALSCALE:GREGORIAN
METHOD:PUBLISH
X-WR-CALNAME:Baltimore Sailing Club
X-ORIGINAL-URL:https://www.baltimoresailingclub.ie
X-WR-CALDESC:Events for Baltimore Sailing Club
REFRESH-INTERVAL;VALUE=DURATION:PT1H
X-Robots-Tag:noindex
X-PUBLISHED-TTL:PT1H
BEGIN:VTIMEZONE
TZID:Europe/London
BEGIN:DAYLIGHT
TZOFFSETFROM:+0000
TZOFFSETTO:+0100
TZNAME:BST
DTSTART:20180325T010000
END:DAYLIGHT
BEGIN:STANDARD
TZOFFSETFROM:+0100
TZOFFSETTO:+0000
TZNAME:GMT
DTSTART:20181028T010000
END:STANDARD
BEGIN:DAYLIGHT
TZOFFSETFROM:+0000
TZOFFSETTO:+0100
TZNAME:BST
DTSTART:20190331T010000
END:DAYLIGHT
BEGIN:STANDARD
TZOFFSETFROM:+0100
TZOFFSETTO:+0000
TZNAME:GMT
DTSTART:20191027T010000
END:STANDARD
BEGIN:DAYLIGHT
TZOFFSETFROM:+0000
TZOFFSETTO:+0100
TZNAME:BST
DTSTART:20200329T010000
END:DAYLIGHT
BEGIN:STANDARD
TZOFFSETFROM:+0100
TZOFFSETTO:+0000
TZNAME:GMT
DTSTART:20201025T010000
END:STANDARD
END:VTIMEZONE
BEGIN:VEVENT
DTSTART;VALUE=DATE:20190624
DTEND;VALUE=DATE:20190625
DTSTAMP:20260424T145724
CREATED:20190621T123413Z
LAST-MODIFIED:20190621T123413Z
UID:4133-1561334400-1561420799@www.baltimoresailingclub.ie
SUMMARY:First Aid Course
DESCRIPTION:The club is running a First Aid Course next Monday 24th June (all day course).  If you are interested in attending please contact Sheila O’Sullivan (086) 8699628.  Places are limited so if you are interested please contact Sheila ASAP!. \nAll new instructors are required to have a valid first aid certificate (Irish Sailing won’t issue Dinghy Instructor Certificates without one!) and certificates are only valid for two years – you must then renew/revalidate your qualification. \nThis is a great opportunity to get your qualification in Baltimore.  Give Sheila a call if you require any further information.
URL:https://www.baltimoresailingclub.ie/event/first-aid-course/
LOCATION:Baltimore Sailing Club\, Baltimore\, County Cork\, Cork\, Ireland
ATTACH;FMTTYPE=image/jpeg:https://www.baltimoresailingclub.ie/wp-content/uploads/2019/06/First-Aid-Course.jpg
ORGANIZER;CN="Baltimore Sailing Club":MAILTO:info@baltimoresailingclub.ie
END:VEVENT
END:VCALENDAR