BEGIN:VCALENDAR
VERSION:2.0
PRODID:-//Baltimore Sailing Club - ECPv6.15.17//NONSGML v1.0//EN
CALSCALE:GREGORIAN
METHOD:PUBLISH
X-ORIGINAL-URL:https://www.baltimoresailingclub.ie
X-WR-CALDESC:Events for Baltimore Sailing Club
REFRESH-INTERVAL;VALUE=DURATION:PT1H
X-Robots-Tag:noindex
X-PUBLISHED-TTL:PT1H
BEGIN:VTIMEZONE
TZID:Europe/London
BEGIN:DAYLIGHT
TZOFFSETFROM:+0000
TZOFFSETTO:+0100
TZNAME:BST
DTSTART:20180325T010000
END:DAYLIGHT
BEGIN:STANDARD
TZOFFSETFROM:+0100
TZOFFSETTO:+0000
TZNAME:GMT
DTSTART:20181028T010000
END:STANDARD
BEGIN:DAYLIGHT
TZOFFSETFROM:+0000
TZOFFSETTO:+0100
TZNAME:BST
DTSTART:20190331T010000
END:DAYLIGHT
BEGIN:STANDARD
TZOFFSETFROM:+0100
TZOFFSETTO:+0000
TZNAME:GMT
DTSTART:20191027T010000
END:STANDARD
BEGIN:DAYLIGHT
TZOFFSETFROM:+0000
TZOFFSETTO:+0100
TZNAME:BST
DTSTART:20200329T010000
END:DAYLIGHT
BEGIN:STANDARD
TZOFFSETFROM:+0100
TZOFFSETTO:+0000
TZNAME:GMT
DTSTART:20201025T010000
END:STANDARD
END:VTIMEZONE
BEGIN:VEVENT
DTSTART;VALUE=DATE:20190803
DTEND;VALUE=DATE:20190805
DTSTAMP:20260421T000903
CREATED:20190717T093840Z
LAST-MODIFIED:20190803T083711Z
UID:4332-1564790400-1564963199@www.baltimoresailingclub.ie
SUMMARY:Baltimore Cup & Sloop Worlds 2019
DESCRIPTION:The Baltimore Cup for 1720’s and Heir Island Sloop Worlds will be held on the Saturday and Sunday of the August Bank holiday weekend – 3rd and 4th August\, 2019.  Boats are being launched on Friday 2nd August up until 1800 hours from the pier. \nThere will be a lift out from 1430 hours on Friday for those wishing to clean their boats prior to the event. \nFor further information please contact 1720 Class Captain – Peter O’Flynn or Sailing Secretary – Robert O’Leary. \nSailing Instructions \nEntry Form (please print\, complete and bring along to registration)
URL:https://www.baltimoresailingclub.ie/event/baltimore-cup/
LOCATION:Baltimore Sailing Club\, Baltimore\, County Cork\, Cork\, Ireland
CATEGORIES:1720’s,Events,Heir Island Sloops,Sloops
ATTACH;FMTTYPE=image/jpeg:https://www.baltimoresailingclub.ie/wp-content/uploads/2019/07/IMG_5795-2-scaled.jpg
ORGANIZER;CN="Baltimore Sailing Club":MAILTO:info@baltimoresailingclub.ie
END:VEVENT
BEGIN:VEVENT
DTSTART;VALUE=DATE:20190830
DTEND;VALUE=DATE:20190902
DTSTAMP:20260421T000903
CREATED:20190717T093136Z
LAST-MODIFIED:20190901T151713Z
UID:4329-1567123200-1567382399@www.baltimoresailingclub.ie
SUMMARY:Ropedock 1720 National Championships 2019
DESCRIPTION:The Ropedock 1720 National Championships will be hosted by Baltimore Sailing Club on Friday 30th August\, Saturday 31st August and Sunday 1st September. \nNotice of Race \nEntry Form \nSailing Instructions \nSI Amendment No 1 \nResults \nLaunching – boats will be launced from 1530 hours until 1900 hours on Thursday 29th August. €60 will be charged for lift in and out and is payable at registration in addition to entry fee.  Boats that travel from outside the Republic of Ireland for the event will have free launching/recovery. \nRegistration will be from 1730 until 2100 hours on Thursdsay 29th August.  Crew weighing will take place at the same time as registration and will be carried out to complete crews one at a time. \nThere will be a barbecue on Saturday night 31st August with the prizegiving after racing on Sunday 1st September.
URL:https://www.baltimoresailingclub.ie/event/ropedock-1720-national-championships-2019/
LOCATION:Baltimore Sailing Club\, Baltimore\, County Cork\, Cork\, Ireland
CATEGORIES:1720’s,Events
ATTACH;FMTTYPE=image/jpeg:https://www.baltimoresailingclub.ie/wp-content/uploads/2019/07/1720-Nats-2019.jpg
ORGANIZER;CN="Baltimore Sailing Club":MAILTO:info@baltimoresailingclub.ie
END:VEVENT
END:VCALENDAR