BEGIN:VCALENDAR
VERSION:2.0
PRODID:-//Baltimore Sailing Club - ECPv6.15.17//NONSGML v1.0//EN
CALSCALE:GREGORIAN
METHOD:PUBLISH
X-WR-CALNAME:Baltimore Sailing Club
X-ORIGINAL-URL:https://www.baltimoresailingclub.ie
X-WR-CALDESC:Events for Baltimore Sailing Club
REFRESH-INTERVAL;VALUE=DURATION:PT1H
X-Robots-Tag:noindex
X-PUBLISHED-TTL:PT1H
BEGIN:VTIMEZONE
TZID:Europe/London
BEGIN:DAYLIGHT
TZOFFSETFROM:+0000
TZOFFSETTO:+0100
TZNAME:BST
DTSTART:20230326T010000
END:DAYLIGHT
BEGIN:STANDARD
TZOFFSETFROM:+0100
TZOFFSETTO:+0000
TZNAME:GMT
DTSTART:20231029T010000
END:STANDARD
BEGIN:DAYLIGHT
TZOFFSETFROM:+0000
TZOFFSETTO:+0100
TZNAME:BST
DTSTART:20240331T010000
END:DAYLIGHT
BEGIN:STANDARD
TZOFFSETFROM:+0100
TZOFFSETTO:+0000
TZNAME:GMT
DTSTART:20241027T010000
END:STANDARD
BEGIN:DAYLIGHT
TZOFFSETFROM:+0000
TZOFFSETTO:+0100
TZNAME:BST
DTSTART:20250330T010000
END:DAYLIGHT
BEGIN:STANDARD
TZOFFSETFROM:+0100
TZOFFSETTO:+0000
TZNAME:GMT
DTSTART:20251026T010000
END:STANDARD
BEGIN:DAYLIGHT
TZOFFSETFROM:+0000
TZOFFSETTO:+0100
TZNAME:BST
DTSTART:20260329T010000
END:DAYLIGHT
BEGIN:STANDARD
TZOFFSETFROM:+0100
TZOFFSETTO:+0000
TZNAME:GMT
DTSTART:20261025T010000
END:STANDARD
END:VTIMEZONE
BEGIN:VEVENT
DTSTART;VALUE=DATE:20240803
DTEND;VALUE=DATE:20240805
DTSTAMP:20260421T051058
CREATED:20240728T132313Z
LAST-MODIFIED:20240728T133424Z
UID:15099-1722643200-1722815999@www.baltimoresailingclub.ie
SUMMARY:1720 Baltimore Cup 2024
DESCRIPTION:The 1720 Baltimore Cup 2024 will take place on Saturday 3rd and Sunday 4th August! NoR\, SIs and entry form below\, details on lifting in and out will be posted here when available. \nNotice of Race \nSailing Instructions \nEntry Form \nLift ins can be arranged for Friday evening\, contact James Kitt 089 617 3700 to arrange.
URL:https://www.baltimoresailingclub.ie/event/1720-baltimore-cup-2024/
LOCATION:Baltimore Sailing Club\, Baltimore\, County Cork\, Cork\, Ireland
CATEGORIES:1720’s,Events
ATTACH;FMTTYPE=image/jpeg:https://www.baltimoresailingclub.ie/wp-content/uploads/2020/08/IMG_8668R.jpg
END:VEVENT
BEGIN:VEVENT
DTSTART;VALUE=DATE:20250802
DTEND;VALUE=DATE:20250804
DTSTAMP:20260421T051058
CREATED:20250716T092559Z
LAST-MODIFIED:20250803T171935Z
UID:16903-1754092800-1754265599@www.baltimoresailingclub.ie
SUMMARY:1720 Baltimore Cup 2025
DESCRIPTION:The 1720 Baltimore Cup 2025 will take place on Saturday 2nd and Sunday 3rd August! See race documents below. \nNotice of Race \nSailing Instructions (Amended 01/08/25 17:52) \nEntry Form \nNote for the Heir Island Sloop Regatta: The First Substitute Flag for general recall is replaced with flag D. \n1720 Results \nSloop Results
URL:https://www.baltimoresailingclub.ie/event/1720-baltimore-cup-2025/
LOCATION:Baltimore Sailing Club\, Baltimore\, County Cork\, Cork\, Ireland
CATEGORIES:1720’s,Sailing
ATTACH;FMTTYPE=image/jpeg:https://www.baltimoresailingclub.ie/wp-content/uploads/2024/06/IMG_3716_1.jpg
ORGANIZER;CN="Baltimore Sailing Club":MAILTO:info@baltimoresailingclub.ie
END:VEVENT
END:VCALENDAR