BEGIN:VCALENDAR
VERSION:2.0
PRODID:-//Baltimore Sailing Club - ECPv6.15.17//NONSGML v1.0//EN
CALSCALE:GREGORIAN
METHOD:PUBLISH
X-ORIGINAL-URL:https://www.baltimoresailingclub.ie
X-WR-CALDESC:Events for Baltimore Sailing Club
REFRESH-INTERVAL;VALUE=DURATION:PT1H
X-Robots-Tag:noindex
X-PUBLISHED-TTL:PT1H
BEGIN:VTIMEZONE
TZID:Europe/London
BEGIN:DAYLIGHT
TZOFFSETFROM:+0000
TZOFFSETTO:+0100
TZNAME:BST
DTSTART:20190331T010000
END:DAYLIGHT
BEGIN:STANDARD
TZOFFSETFROM:+0100
TZOFFSETTO:+0000
TZNAME:GMT
DTSTART:20191027T010000
END:STANDARD
BEGIN:DAYLIGHT
TZOFFSETFROM:+0000
TZOFFSETTO:+0100
TZNAME:BST
DTSTART:20200329T010000
END:DAYLIGHT
BEGIN:STANDARD
TZOFFSETFROM:+0100
TZOFFSETTO:+0000
TZNAME:GMT
DTSTART:20201025T010000
END:STANDARD
BEGIN:DAYLIGHT
TZOFFSETFROM:+0000
TZOFFSETTO:+0100
TZNAME:BST
DTSTART:20210328T010000
END:DAYLIGHT
BEGIN:STANDARD
TZOFFSETFROM:+0100
TZOFFSETTO:+0000
TZNAME:GMT
DTSTART:20211031T010000
END:STANDARD
END:VTIMEZONE
BEGIN:VEVENT
DTSTART;VALUE=DATE:20200216
DTEND;VALUE=DATE:20200222
DTSTAMP:20260422T224834
CREATED:20200120T105145Z
LAST-MODIFIED:20200120T105208Z
UID:5038-1581811200-1582329599@www.baltimoresailingclub.ie
SUMMARY:Optimist Spring Training Week
DESCRIPTION:Baltimore Sailing Club is delighted to welcome all optimist sailors\, siblings and families back for their annual Optimist Spring Training Week and Regatta.  This year the week runs from Sunday 15th Feb to Friday 21st Feb and full details can be found on the IODAI website. \n 
URL:https://www.baltimoresailingclub.ie/event/optimist-spring-training-week/
LOCATION:Baltimore Sailing Club\, Baltimore\, County Cork\, Cork\, Ireland
CATEGORIES:Events,Junior Sailing
ATTACH;FMTTYPE=image/jpeg:https://www.baltimoresailingclub.ie/wp-content/uploads/2020/01/12799040_1110542788977850_1883444414201795129_n.jpg
ORGANIZER;CN="IODAI":MAILTO:honsec@iodai.com
END:VEVENT
END:VCALENDAR