BEGIN:VCALENDAR
VERSION:2.0
PRODID:-//Baltimore Sailing Club - ECPv6.15.17//NONSGML v1.0//EN
CALSCALE:GREGORIAN
METHOD:PUBLISH
X-ORIGINAL-URL:https://www.baltimoresailingclub.ie
X-WR-CALDESC:Events for Baltimore Sailing Club
REFRESH-INTERVAL;VALUE=DURATION:PT1H
X-Robots-Tag:noindex
X-PUBLISHED-TTL:PT1H
BEGIN:VTIMEZONE
TZID:Europe/London
BEGIN:DAYLIGHT
TZOFFSETFROM:+0000
TZOFFSETTO:+0100
TZNAME:BST
DTSTART:20190331T010000
END:DAYLIGHT
BEGIN:STANDARD
TZOFFSETFROM:+0100
TZOFFSETTO:+0000
TZNAME:GMT
DTSTART:20191027T010000
END:STANDARD
BEGIN:DAYLIGHT
TZOFFSETFROM:+0000
TZOFFSETTO:+0100
TZNAME:BST
DTSTART:20200329T010000
END:DAYLIGHT
BEGIN:STANDARD
TZOFFSETFROM:+0100
TZOFFSETTO:+0000
TZNAME:GMT
DTSTART:20201025T010000
END:STANDARD
BEGIN:DAYLIGHT
TZOFFSETFROM:+0000
TZOFFSETTO:+0100
TZNAME:BST
DTSTART:20210328T010000
END:DAYLIGHT
BEGIN:STANDARD
TZOFFSETFROM:+0100
TZOFFSETTO:+0000
TZNAME:GMT
DTSTART:20211031T010000
END:STANDARD
END:VTIMEZONE
BEGIN:VEVENT
DTSTART;VALUE=DATE:20200706
DTEND;VALUE=DATE:20200725
DTSTAMP:20260422T033127
CREATED:20200220T112136Z
LAST-MODIFIED:20200626T173132Z
UID:5078-1593993600-1595635199@www.baltimoresailingclub.ie
SUMMARY:BSC Junior Sailing July
DESCRIPTION:Junior Sailing sessions will run from 6th – 24th July. \nThe week beginning 6th July will be for “level 3” sailors.  This is an all-day course for the 5 days but sailors will need to be collected for lunch. \nJuly “Level 4”: (Advanced Boat Handling\, Go Racing and Adventure) – Week beginning 13th July to 24th July. Each level will do half days for the 10 days.
URL:https://www.baltimoresailingclub.ie/event/july-sailing-course/
LOCATION:Baltimore Sailing Club\, Baltimore\, County Cork\, Cork\, Ireland
CATEGORIES:Junior Sailing,Sailing
ATTACH;FMTTYPE=image/jpeg:https://www.baltimoresailingclub.ie/wp-content/uploads/2019/07/NQLmOOPXRzuM5QSs53Ku4A_thumb_14ad9.jpg
ORGANIZER;CN="Baltimore Sailing Club":MAILTO:info@baltimoresailingclub.ie
END:VEVENT
END:VCALENDAR