BEGIN:VCALENDAR
VERSION:2.0
PRODID:-//Baltimore Sailing Club - ECPv6.15.17//NONSGML v1.0//EN
CALSCALE:GREGORIAN
METHOD:PUBLISH
X-WR-CALNAME:Baltimore Sailing Club
X-ORIGINAL-URL:https://www.baltimoresailingclub.ie
X-WR-CALDESC:Events for Baltimore Sailing Club
REFRESH-INTERVAL;VALUE=DURATION:PT1H
X-Robots-Tag:noindex
X-PUBLISHED-TTL:PT1H
BEGIN:VTIMEZONE
TZID:Europe/London
BEGIN:DAYLIGHT
TZOFFSETFROM:+0000
TZOFFSETTO:+0100
TZNAME:BST
DTSTART:20180325T010000
END:DAYLIGHT
BEGIN:STANDARD
TZOFFSETFROM:+0100
TZOFFSETTO:+0000
TZNAME:GMT
DTSTART:20181028T010000
END:STANDARD
BEGIN:DAYLIGHT
TZOFFSETFROM:+0000
TZOFFSETTO:+0100
TZNAME:BST
DTSTART:20190331T010000
END:DAYLIGHT
BEGIN:STANDARD
TZOFFSETFROM:+0100
TZOFFSETTO:+0000
TZNAME:GMT
DTSTART:20191027T010000
END:STANDARD
BEGIN:DAYLIGHT
TZOFFSETFROM:+0000
TZOFFSETTO:+0100
TZNAME:BST
DTSTART:20200329T010000
END:DAYLIGHT
BEGIN:STANDARD
TZOFFSETFROM:+0100
TZOFFSETTO:+0000
TZNAME:GMT
DTSTART:20201025T010000
END:STANDARD
END:VTIMEZONE
BEGIN:VEVENT
DTSTART;TZID=Europe/London:20190706T100000
DTEND;TZID=Europe/London:20190706T130000
DTSTAMP:20260423T155104
CREATED:20190705T115819Z
LAST-MODIFIED:20190705T120433Z
UID:4205-1562407200-1562418000@www.baltimoresailingclub.ie
SUMMARY:July Lousy Cup
DESCRIPTION:The July Lousy Cup Youth League will commence tomorrow Saturday 6th July\, 2019.  The classes are – Topaz\, Laser 4.7\, RS200’s and All In.  Participants of the sailing course who are capable of racing are encouraged to do so. \nEntry Forms are available from the Club.  It is important that sailors arrive early tomorrow morning (at 9.55am sharp latest) to fill in forms\, rig boats and attend the briefing.  The first gun is at 1055 sharp.  Racing is each Saturday morning from 10 until approx 1230/1300 hours. \nBoats racing must have identifiable sail numbers or their finishing positions will be penalised (see sailing instructions posted on the Club Noticeboard).  Speak to the boat stewards about where to get sail numbers if you do not have them. \nSailors and parents should read the Sailing Instructions on the notice board which include the minimum insurance requirements and other information. \nHope to see you all there for an enjoyable morning of sailing.  Prizegiving will be held on the final Saturday of racing (27th July) at 1730 hours in the clubhouse. \nSailing Instructions
URL:https://www.baltimoresailingclub.ie/event/july-lousy-cup/
LOCATION:Baltimore Sailing Club\, Baltimore\, County Cork\, Cork\, Ireland
CATEGORIES:Events,Junior Sailing,Sailing
ATTACH;FMTTYPE=image/jpeg:https://www.baltimoresailingclub.ie/wp-content/uploads/2019/02/3361_original.jpg
ORGANIZER;CN="Baltimore Sailing Club":MAILTO:info@baltimoresailingclub.ie
END:VEVENT
BEGIN:VEVENT
DTSTART;VALUE=DATE:20190722
DTEND;VALUE=DATE:20190726
DTSTAMP:20260423T155104
CREATED:20190621T124055Z
LAST-MODIFIED:20190717T095639Z
UID:4135-1563753600-1564099199@www.baltimoresailingclub.ie
SUMMARY:Adult Sailing Courses
DESCRIPTION:The Adult Sailing course will be held from Monday 22nd to Thursday 25th July\, 2019 in two course sessions (morning course and afternoon course).  The courses are run aboard the Club 1720 sportsboat and a Laser Stratos. \nThe morning sessions will be 1030 hours to 1300 and afternoon sessions will be 1400 hours to 1630 hours. \nThe course cost is €120 members and €150 non members.  If you are interested in attending one of the above courses please email your name and which course you would prefer (morning/afternoon) to courses@baltimoresailingclub.ie. \nWhen a place is confirmed you will be asked to pay the course fee via our online payment system on our website.  All levels of experience are welcome. \nWe look forward to seeing you on the water this Summer.
URL:https://www.baltimoresailingclub.ie/event/adult-sailing-courses/
LOCATION:Cork
CATEGORIES:1720’s,Sailing
ATTACH;FMTTYPE=image/jpeg:https://www.baltimoresailingclub.ie/wp-content/uploads/2019/06/IMG_3827-2-scaled.jpg
END:VEVENT
BEGIN:VEVENT
DTSTART;VALUE=DATE:20190728
DTEND;VALUE=DATE:20190729
DTSTAMP:20260423T155104
CREATED:20190704T111447Z
LAST-MODIFIED:20190719T133145Z
UID:4197-1564272000-1564358399@www.baltimoresailingclub.ie
SUMMARY:Marconi Cup 2019
DESCRIPTION:Baltimore Sailing Club is delighted to be hosting this year’s Marconi Cup Team Racing and Relay Race event.  The event will be held on July 21st\, 2019 in Baltimore Harbour. \nPlease note – Sunday 28th July is the back up date. \nUpdate 18 July – we are closely monitoring the weather forecast for Sunday 21st and at present the event is going ahead as planned.  The final decision will be advised by 6pm tomorrow evening (Friday) via our Facebook Page. \nUpdate 19 July 1430 hours – the Marconi Cup event has been postponed until Sunday 28th July (back up date). \nNotice of Race  \nEntry Form \nTeam Racing Sailing Instructions \nGeneral Sailing Instructions \nRelay Race Sailing Instructions
URL:https://www.baltimoresailingclub.ie/event/marconi-cup-2019/
LOCATION:Baltimore Sailing Club\, Baltimore\, County Cork\, Cork\, Ireland
CATEGORIES:Events,Junior Sailing,Sailing
ATTACH;FMTTYPE=image/jpeg:https://www.baltimoresailingclub.ie/wp-content/uploads/2019/02/UNADJUSTEDNONRAW_thumb_11168.jpg
ORGANIZER;CN="Baltimore Sailing Club":MAILTO:info@baltimoresailingclub.ie
END:VEVENT
END:VCALENDAR