BEGIN:VCALENDAR
VERSION:2.0
PRODID:-//Baltimore Sailing Club - ECPv6.15.17//NONSGML v1.0//EN
CALSCALE:GREGORIAN
METHOD:PUBLISH
X-ORIGINAL-URL:https://www.baltimoresailingclub.ie
X-WR-CALDESC:Events for Baltimore Sailing Club
REFRESH-INTERVAL;VALUE=DURATION:PT1H
X-Robots-Tag:noindex
X-PUBLISHED-TTL:PT1H
BEGIN:VTIMEZONE
TZID:Europe/London
BEGIN:DAYLIGHT
TZOFFSETFROM:+0000
TZOFFSETTO:+0100
TZNAME:BST
DTSTART:20180325T010000
END:DAYLIGHT
BEGIN:STANDARD
TZOFFSETFROM:+0100
TZOFFSETTO:+0000
TZNAME:GMT
DTSTART:20181028T010000
END:STANDARD
BEGIN:DAYLIGHT
TZOFFSETFROM:+0000
TZOFFSETTO:+0100
TZNAME:BST
DTSTART:20190331T010000
END:DAYLIGHT
BEGIN:STANDARD
TZOFFSETFROM:+0100
TZOFFSETTO:+0000
TZNAME:GMT
DTSTART:20191027T010000
END:STANDARD
BEGIN:DAYLIGHT
TZOFFSETFROM:+0000
TZOFFSETTO:+0100
TZNAME:BST
DTSTART:20200329T010000
END:DAYLIGHT
BEGIN:STANDARD
TZOFFSETFROM:+0100
TZOFFSETTO:+0000
TZNAME:GMT
DTSTART:20201025T010000
END:STANDARD
END:VTIMEZONE
BEGIN:VEVENT
DTSTART;TZID=Europe/London:20191229T193000
DTEND;TZID=Europe/London:20191229T233000
DTSTAMP:20260423T183913
CREATED:20190903T101224Z
LAST-MODIFIED:20191218T165114Z
UID:4903-1577647800-1577662200@www.baltimoresailingclub.ie
SUMMARY:Annual Dinner Dance
DESCRIPTION:The Annual Dinner Dance will be held in Casey’s Hotel on the 29th December\, 2019.  Tickets will go on sale via Commodore Niall O’Neill in late October/early November.  Details will be circulated to all members.  Always a great night with dinner\, prizegiving and dancing!. \nUPDATE 18 DECEMBER 2019 – The Dinner Dance is fully booked out.  A waiting list is in operation and if you wish your name(s) to be added please email baltimorescoffice@gmail.com.
URL:https://www.baltimoresailingclub.ie/event/annual-dinner-dance/
LOCATION:Cork
ATTACH;FMTTYPE=image/jpeg:https://www.baltimoresailingclub.ie/wp-content/uploads/2018/11/post3.jpg
END:VEVENT
BEGIN:VEVENT
DTSTART;TZID=Europe/London:20191230T120000
DTEND;TZID=Europe/London:20191230T130000
DTSTAMP:20260423T183913
CREATED:20190903T101647Z
LAST-MODIFIED:20190903T101718Z
UID:4905-1577707200-1577710800@www.baltimoresailingclub.ie
SUMMARY:Annual General Meeting
DESCRIPTION:The Annual General Meeting will take place in the Clubhouse on Monday 30th December\, 2019 at 12 noon. \nAll members welcome to attend.
URL:https://www.baltimoresailingclub.ie/event/annual-general-meeting/
LOCATION:Baltimore Sailing Club\, Baltimore\, County Cork\, Cork\, Ireland
CATEGORIES:Events,Sailing
ATTACH;FMTTYPE=image/jpeg:https://www.baltimoresailingclub.ie/wp-content/uploads/2018/11/post3.jpg
END:VEVENT
END:VCALENDAR